BEGIN:VCALENDAR
VERSION:2.0
PRODID:-//Asociación Yo No Renuncio - ECPv6.15.20//NONSGML v1.0//EN
CALSCALE:GREGORIAN
METHOD:PUBLISH
X-ORIGINAL-URL:https://yonorenuncio.com
X-WR-CALDESC:Eventos para Asociación Yo No Renuncio
REFRESH-INTERVAL;VALUE=DURATION:PT1H
X-Robots-Tag:noindex
X-PUBLISHED-TTL:PT1H
BEGIN:VTIMEZONE
TZID:Europe/Madrid
BEGIN:DAYLIGHT
TZOFFSETFROM:+0100
TZOFFSETTO:+0200
TZNAME:CEST
DTSTART:20250330T010000
END:DAYLIGHT
BEGIN:STANDARD
TZOFFSETFROM:+0200
TZOFFSETTO:+0100
TZNAME:CET
DTSTART:20251026T010000
END:STANDARD
BEGIN:DAYLIGHT
TZOFFSETFROM:+0100
TZOFFSETTO:+0200
TZNAME:CEST
DTSTART:20260329T010000
END:DAYLIGHT
BEGIN:STANDARD
TZOFFSETFROM:+0200
TZOFFSETTO:+0100
TZNAME:CET
DTSTART:20261025T010000
END:STANDARD
BEGIN:DAYLIGHT
TZOFFSETFROM:+0100
TZOFFSETTO:+0200
TZNAME:CEST
DTSTART:20270328T010000
END:DAYLIGHT
BEGIN:STANDARD
TZOFFSETFROM:+0200
TZOFFSETTO:+0100
TZNAME:CET
DTSTART:20271031T010000
END:STANDARD
END:VTIMEZONE
BEGIN:VEVENT
DTSTART;TZID=Europe/Madrid:20260504T110000
DTEND;TZID=Europe/Madrid:20260504T130000
DTSTAMP:20260423T165702
CREATED:20260422T093807Z
LAST-MODIFIED:20260422T093909Z
UID:38433-1777892400-1777899600@yonorenuncio.com
SUMMARY:Presentamos las propuestas para un Pacto de Estado por la Conciliación
DESCRIPTION:Hay días que no son solo para celebrar. Son para cuestionar lo que no está funcionando. Y este es uno de ellos. Porque la maternidad sigue sosteniéndose a costa de nuestras renuncias\, agotamiento y falta de apoyo real. \n\n\n\nEste 4 de mayo damos un paso más \n\n\n\nVamos al Congreso de los Diputados a presentar lo que llevamos años reclamando: \n\n\n\n\nConciliación real.\n\n\n\nCorresponsabilidad.\n\n\n\nDerechos que no penalicen ser madre.\n\n\n\nY algo muy importante: vamos a pedir respuesta.\n\n\n\n\n¿Te vienes? \n\n\n\n🗓 4 de mayo a las 11:00 horas📍Congreso de los Diputados – Sala Clara Campoamor (Carrera de San Jerónimo\, 36. Madrid) \n\n\n\n 👉 Inscríbete aquí.
URL:https://yonorenuncio.com/evento/presentamos-las-propuestas-para-un-pacto-de-estado-por-la-conciliacion/
ATTACH;FMTTYPE=image/jpeg:https://media.yonorenuncio.com/app/uploads/2026/04/22113755/2-YNR-agenda.jpg
END:VEVENT
END:VCALENDAR